BEGIN:VCALENDAR
VERSION:2.0
PRODID:-//ChamberMaster//Event Calendar 2.0//EN
METHOD:PUBLISH
X-PUBLISHED-TTL:P3D
REFRESH-INTERVAL:P3D
CALSCALE:GREGORIAN
BEGIN:VEVENT
DTSTART:20191113T200000Z
DTEND:20191113T210000Z
X-MICROSOFT-CDO-ALLDAYEVENT:FALSE
SUMMARY:Chamber Lunch & Learn
DESCRIPTION:Join fellow business owners and community leaders for good food\, networking and education.  This month's special program will be an update from Inyo County Supervisor Jeff Griffiths.
X-ALT-DESC;FMTTYPE=text/html:Join fellow business owners and community leaders for good food\, networking and education.&nbsp\; This month&#39\;s special program will be an update from Inyo County Supervisor Jeff Griffiths.
LOCATION:Back Alley Bowl and Grill
UID:e.3579.1
SEQUENCE:3
DTSTAMP:20260419T235444Z
URL:http://bishopareachamberca.chambermaster.com/events/details/chamber-lunch-learn-1
END:VEVENT

END:VCALENDAR
