BEGIN:VCALENDAR
VERSION:2.0
PRODID:-//ChamberMaster//Event Calendar 2.0//EN
METHOD:PUBLISH
X-PUBLISHED-TTL:P3D
REFRESH-INTERVAL:P3D
CALSCALE:GREGORIAN
BEGIN:VEVENT
DTSTART:20200220T200000Z
DTEND:20200220T210000Z
X-MICROSOFT-CDO-ALLDAYEVENT:FALSE
SUMMARY:Bishop Chamber Lunch & Learn
DESCRIPTION:Enjoy good food and great conversation with fellow business leaders.
X-ALT-DESC;FMTTYPE=text/html:Enjoy good food and great conversation with fellow business leaders.&nbsp\;&nbsp\;
LOCATION:Bishop Pizza Factory
UID:e.3579.41
SEQUENCE:3
DTSTAMP:20260419T144552Z
URL:http://bishopareachamberca.chambermaster.com/events/details/bishop-chamber-lunch-learn-41
END:VEVENT

END:VCALENDAR
